Workbook

Sheet New Degrees
A1: Institution | B1: Year | C1: Region | D1: Program Name | E1: Award | F1: Award Type | G1: CIP Family | H1: 2-Digit CIP | I1: CIP Code | J1: Credits | K1: Delivery Method | L1: Anticipated Start Date | M1: Program Description | N1: Justification | O1: Inter-Institutional Collaboration (Degree Only) | P1: Plan submission? | Q1: Notes
A2: Utah State University | B2: 1 | C2: Northern | D2: Environmental Design | E2: Associate | F2: AS | G2: =_xlfn.XLOOKUP(H2,'CIP Definitions'!A:A,'CIP Definitions'!B:B,"Not Found",0,1) -> ARCHITECTURE AND RELATED SERVICES. | H2: 4 | I2: 4.0401 | J2: 60 | K2: Variety | L2: Fall 2026 | M2: The Associate of Environmental Design is a two-year, 60-credit foundational pre-professional degree program to provide students with a rigorous grounding in the principles, methods, and skills of design and planning as they relate to the built environment, ecology, and human systems. | N2: Proposal already submitted for peer review. | P2: FALSE
A3: Utah State University | B3: 1 | C3: Northern | D3: Deaf Education | E3: Bachelor | F3: BA | G3: =_xlfn.XLOOKUP(H3,'CIP Definitions'!A:A,'CIP Definitions'!B:B,"Not Found",0,1) -> EDUCATION. | H3: 13 | I3: 13.1003 | J3: 120 | L3: Fall 2026 | M3: This program includes coursework for students interested in providing educational services to Deaf or Hard of Hearing children who communicate using American Sign Language, with core teacher training and teaching methods through TEAL. Coursework includes child language development, speech and language science, basic audiology, special education laws and policies, and introduction to serving children with disabilities. | N3: BOT approval: 3/17/25. | P3: FALSE
A4: Utah State University | B4: 1 | C4: Northern | D4: Chemical Engineering | E4: Bachelor | F4: BS | G4: =_xlfn.XLOOKUP(H4,'CIP Definitions'!A:A,'CIP Definitions'!B:B,"Not Found",0,1) -> ENGINEERING. | H4: 14 | I4: 14.0701 | J4: 120 | K4: In person | L4: Fall 2026 | M4: This modern program emphasizes three transformative focus areas: upcycling, sustainability, and AI-driven chemical process modeling. Students will gain a strong foundation in core chemical engineering principles while developing specialized skills in green chemistry, waste valorization, and digital process optimization. | N4: Proposal already submitted for peer review. | O4: We will build transfer pathways with Snow College and SLCC, and pathways from USU Eastern | P4: Duplicate
A5: Utah State University | B5: 1 | C5: Northern | D5: Systems Engineering | E5: Master | F5: MS | G5: =_xlfn.XLOOKUP(H5,'CIP Definitions'!A:A,'CIP Definitions'!B:B,"Not Found",0,1) -> ENGINEERING. | H5: 14 | I5: 14.2701 | J5: 33 | K5: Remote Virtual | L5: Spring 2027 | M5: The Systems Engineering MS prepares students ti gain INCOSE certification and also provides them an opportunity to obtain more breadth in their engineering training | N5: Several companies over the past 2 years have indicated that they would like to have an Systems Certificate with opportunities for breadth in engineering topics. | O5: The online degree requires a breadth of courses. There is a potential for students to enroll in courses from other universities to complete their degrees. | P5: TRUE
A6: Utah State University | B6: 1 | C6: Northern | D6: Robotics, Automation, and Control Systems | E6: Bachelor | F6: BS | G6: =_xlfn.XLOOKUP(H6,'CIP Definitions'!A:A,'CIP Definitions'!B:B,"Not Found",0,1) -> ENGINEERING. | H6: 14 | I6: 14.4201 | J6: 120 | K6: Variety | L6: Fall 2026 | M6: This program is designed to prepare students for high-demand careers in industrial automation, controls engineering, manufacturing engineering, and related fields. The program integrates technical training with applied engineering, data analysis, and systems management to prepare graduates for leadership roles in modern automated industries. | N6: Proposal already submitted for peer review. | P6: FALSE
A7: Utah State University | B7: 1 | C7: Northern | D7: Energy Engineering | E7: Bachelor | F7: BS | G7: =_xlfn.XLOOKUP(H7,'CIP Definitions'!A:A,'CIP Definitions'!B:B,"Not Found",0,1) -> ENGINEERING. | H7: 14 | I7: 14.4801 | J7: 120 | K7: Variety | L7: Fall 2026 | M7: Energy Engineering is an interdisciplinary undergraduate program designed to prepare students to meet the complex and evolving energy needs of Utah and intermountain west. Based in engineering fundamentals, the program blends mechanical, electrical, biological, civil and chemical engineering with a strong focus on energy policy, environmental sustainability, and regional resource management. | N7: Proposal already submitted for peer review. | O7: This will be delivered in statewide campsus. The first 2 years of study may be transferred from other universities. We also look forward to working with both WSU and UofU with their online energy related courses. | P7: Duplicate
A8: Utah State University | B8: 1 | C8: Northern | D8: Transportation and Mechanics | E8: Associate | F8: AS | G8: =_xlfn.XLOOKUP(H8,'CIP Definitions'!A:A,'CIP Definitions'!B:B,"Not Found",0,1) -> ENGINEERING/ENGINEERING-RELATED TECHNOLOGIES/TECHNICIANS. | H8: 15 | I8: 15.0803 | J8: 60 | K8: Variety | L8: Fall 2026 | M8: This degree supports stackable opportunities with technical certificates earned at Utah technical colleges in areas such as diesel, automotive, commercial driving, and heavy equipment technology, applying prior learning toward associate degree completion. Upon completion, this degree provides clear transfer pathways into bachelor’s degree opportunities at Utah State University, including the Technology Systems degree. | N8: Proposal already submitted for peer review. | P8: FALSE
A9: Utah State University | B9: 1 | C9: Northern | D9: Biomanufacturing | E9: Master | F9: MS | G9: =_xlfn.XLOOKUP(H9,'CIP Definitions'!A:A,'CIP Definitions'!B:B,"Not Found",0,1) -> BIOLOGICAL AND BIOMEDICAL SCIENCES. | H9: 26 | I9: 26.1201 | J9: 30 | K9: Variety | L9: Fall 2026 | M9: Online Master’s program to provide participants with the skills and knowledge to function immediately within the workforce of the bioprocessing and biomanufacturing industries. | N9: Proposal already submitted for peer review. | P9: FALSE
A10: Utah State University | B10: 1 | C10: Northern | D10: Behavioral Neuroscience | E10: Bachelor | F10: BA/BS | G10: =_xlfn.XLOOKUP(H10,'CIP Definitions'!A:A,'CIP Definitions'!B:B,"Not Found",0,1) -> BIOLOGICAL AND BIOMEDICAL SCIENCES. | H10: 26 | I10: 26.1501 | J10: 120 | K10: Some courses can be taken online; entire program can be completed in person. | L10: Fall 2026 | M10: Students will learn about theories and discoveries in behavioral neuroscience and how to investigate questions about the neural basis of behavior. Coursework will include psychology, chemistry, biology, and neuroscience courses, advanced electives, and laboratory experiences that prepares students for medicine, psychiatry, clinical psychology, neuropsychology, pharmaceutical research, genetic counseling, public health. | N10: Student interest in a neuroscience program at Utah State University has demonstrated strong and sustained growth. The USUSA Excellence in Neuroscience Club, established in Fall 2017, expanded from over 120 members by Spring 2018 to more than 160 members by Fall 2018. Of these members, 55 expressed direct interest in pursuing a neuroscience major. Survey data collected from 26 respondents revealed a highly motivated student population with an average GPA of 3.71, representing diverse academic levels from freshmen to seniors. The majority of interested students indicated plans to attend graduate school, with strong interest in medical school and research careers. | O10: There are no bachelor's programs in behavioral neuroscience; this program will not impact other USHE institutions. The Department of Psychology routinely works with students who are transferring from other USHE institutions (including SLCC and Snow College) to ensure streamlined transfer articulation. | P10: TRUE
A11: Utah State University | B11: 1 | C11: Northern | D11: Geographic Information System | E11: Master | F11: MS | G11: =_xlfn.XLOOKUP(H11,'CIP Definitions'!A:A,'CIP Definitions'!B:B,"Not Found",0,1) -> MULTI/INTERDISCIPLINARY STUDIES. | H11: 30 | I11: 30.7001 | J11: 30 | K11: Variety | L11: Fall 2026 | M11: Students will complete the Geographic Information Science and Applied Remote Sensing and Geospatial Artificial Intelligence Post-Bachelor’s Certificate. Students can add two application courses to reach the minimum of 30 credits required for a professional master’s degree. Completion of the certificates and additional courses provides training comparable to existing professional masters in GIS. | N11: Proposal already submitted for peer review. | P11: FALSE
A12: Utah State University | B12: 1 | C12: Northern | D12: Construction | E12: Associate | F12: AS | G12: =_xlfn.XLOOKUP(H12,'CIP Definitions'!A:A,'CIP Definitions'!B:B,"Not Found",0,1) -> CONSTRUCTION TRADES. | H12: 46 | I12: 46.0412 | J12: 60 | K12: Variety | L12: Fall 2026 | M12: The department has received interest from industry partners and prospective students seeking advanced training in construction and the skilled trades. The proposed program builds on existing technical certificates and training in plumbing, HVAC technician, construction, and electrical systems, preparing students for expanded responsibilities and increased career opportunities within the construction industry. | N12: Proposal already submitted for peer review. | P12: FALSE
A13: Utah State University | B13: 1 | C13: Northern | D13: Aviation Technology Unmanned Aircraft Systems | E13: Associate | F13: AS | G13: =_xlfn.XLOOKUP(H13,'CIP Definitions'!A:A,'CIP Definitions'!B:B,"Not Found",0,1) -> TRANSPORTATION AND MATERIALS MOVING. | H13: 49 | I13: 49.1099 | J13: 60 | K13: Variety | L13: Fall 2026 | M13: This AS degree enables students to become FAA-certified as remote pilots and an introduction to aviation mentality. Students gain experience in flying, maintaining, programming, and repairing various fixed-wing and multirotor sUAS aircraft, and skills in mission planning, data collection, and various applications of drones and various types of data analysis and deliverables. | N13: Proposal already submitted for peer review. | P13: FALSE
A14: Utah State University | B14: 1 | C14: Northern | D14: Production Creation | E14: Associate | F14: AS | G14: =_xlfn.XLOOKUP(H14,'CIP Definitions'!A:A,'CIP Definitions'!B:B,"Not Found",0,1) -> VISUAL AND PERFORMING ARTS. | H14: 50 | I14: 50.0404 | J14: 60 | K14: In person | L14: Fall 2026 | M14: This degree introduces students to the creative, technical, and analytical processes involved in transforming ideas into tangible products. Through a hands-on curriculum emphasizing sketching, digital modeling, computer-aided design, and prototyping, students develop foundational competencies in visualization, ideation, and design implementation. | N14: Proposal already submitted for peer review. | P14: FALSE
A15: Utah State University | B15: 1 | C15: Northern | D15: Health Professions | E15: Associate | F15: AS | G15: =_xlfn.XLOOKUP(H15,'CIP Definitions'!A:A,'CIP Definitions'!B:B,"Not Found",0,1) -> HEALTH PROFESSIONS AND RELATED PROGRAMS. | H15: 51 | I15: 51.0001 | J15: 60 | K15: Some courses can be taken online; entire program can be completed in person. | L15: Fall 2026 | M15: An AS in Health Professions allows students to explore various pathways to a career in health professions. It will serve as a stackable credential into a BS in Nursing, BA/BS in Health Education and Promotion, BA/BS in Psychology, or BA/BS in Human Development and Family Studies or a standalone degree that includes a healthcare certificate. | N15: Many students enroll in USU’s pre-nursing major because they want to work in healthcare, but they often do not realize that there are numerous career opportunities in the field beyond nursing. An associate degree in Health Professions could serve 300-500 students who are currently in a pre-major or exploratory status. This degree would provide students—especially those who are unable to gain admission to the Bachelor of Science in Nursing program (typically due to grade requirements in science courses as well as limited seats in the major)—with targeted coursework and advising. As a result, they would be better equipped to explore alternative healthcare-related majors and remain enrolled at USU. | O15: This degree is designed to be a collaboration among departments in CEHS as well as the TDTE department in CANR. All transfer rules apply. | P15: TRUE
A16: Utah State University | B16: 1 | C16: Northern | D16: Professional Sales | E16: Bachelor | F16: BS | G16: =_xlfn.XLOOKUP(H16,'CIP Definitions'!A:A,'CIP Definitions'!B:B,"Not Found",0,1) -> BUSINESS, MANAGEMENT, MARKETING, AND RELATED SUPPORT SERVICES. | H16: 52 | I16: 52.1801 | J16: 120 | K16: Variety | L16: Fall 2026 | M16: This program prepares students to create, grow, and retain revenue through consultative selling, strategic account management, and data-informed decision making. Housed in the MSLE Department within the Jon M. Huntsman School of Business, the program blends Huntsman's Business Acumen core with an applied sales sequence in prospecting, negotiations, customer success, and sales analytics. | N16: Proposal already submitted for peer review. | O16: Transfer opportunities within the system | P16: Duplicate
A17: Utah Tech University | B17: 1 | C17: Southern | D17: Artificial Intelligence | E17: Master | F17: MAI | G17: =_xlfn.XLOOKUP(H17,'CIP Definitions'!A:A,'CIP Definitions'!B:B,"Not Found",0,1) -> COMPUTER AND INFORMATION SCIENCES AND SUPPORT SERVICES. | H17: 11 | I17: 11.0102 | J17: 30 | K17: Variety | L17: Fall 2026 | M17: This program prepares students to address real-world problems. It emphasizes rigorous, project-based learning in computer vision, natural language processing, intelligent agents, and generative AI. Through applied coursework and faculty-mentored projects, students develop competencies in designing, implementing, and deploying end-to-end machine learning pipelines for industry-driven challenges. | N17: Proposal already submitted for peer review. | P17: FALSE
A18: Utah Tech University | B18: 1 | C18: Southern | D18: Information Technology | E18: Accelerated Bachelor | F18: BAP | G18: =_xlfn.XLOOKUP(H18,'CIP Definitions'!A:A,'CIP Definitions'!B:B,"Not Found",0,1) -> COMPUTER AND INFORMATION SCIENCES AND SUPPORT SERVICES. | H18: 11 | I18: 11.0103 | J18: 90 | K18: Variety | L18: Fall 2026 | M18: The BAP in Information Technology is a terminal degree that is workforce-focused, streamlined to applied skills, entry to mid-level preparation and industry certifications. This contrasts the BS which has broader academic outcomes and preparation for graduate study. The program combines foundational coursework in computer systems, networking, cybersecurity, programming, and cloud technologies with hands-on training. | N18: Proposal already submitted for peer review. | P18: FALSE
A19: Southern Utah University | B19: 1 | C19: Southern | D19: Early Chilldhood Education | E19: Accelerated Bachelor | F19: BAP | G19: =_xlfn.XLOOKUP(H19,'CIP Definitions'!A:A,'CIP Definitions'!B:B,"Not Found",0,1) -> FAMILY AND CONSUMER SCIENCES/HUMAN SCIENCES. | H19: 19 | I19: 19.0711 | J19: 99 | K19: Online | L19: Fall 2026 | M19: Fully online with flexible pathways, this program prepares learners to work with children and families in occupations outside of teacher licensure. Students earn qualifications incrementally, while also qualifying them to enter the workforce along the way. It addresses the educational requirements for working with young children in the U.S. in multiple professions. | N19: Proposal already submitted for peer review. | P19: FALSE
A20: Utah Tech University | B20: 1 | C20: Southern | D20: Genomics | E20: Master | F20: MS | G20: =_xlfn.XLOOKUP(H20,'CIP Definitions'!A:A,'CIP Definitions'!B:B,"Not Found",0,1) -> BIOLOGICAL AND BIOMEDICAL SCIENCES. | H20: 26 | I20: 26.1103 | J20: 30 | K20: In person | L20: Fall 2026 | M20: This program provides flexible pathways, including a 5-year BS/MS option for UT undergraduates to complete both bachelor’s and master’s degrees in five years, as well as a two-year track for external students. With emphases in Bioinformatics and Functional Genomics, the curriculum integrates computational skills like genomic data analysis and machine learning with experimental techniques. | N20: BOT approval: 1/30/26. | P20: FALSE
A21: Utah Tech University | B21: 1 | C21: Southern | D21: Individualized Studies | E21: Accelerated Bachelor | F21: BAP | G21: =_xlfn.XLOOKUP(H21,'CIP Definitions'!A:A,'CIP Definitions'!B:B,"Not Found",0,1) -> MULTI/INTERDISCIPLINARY STUDIES. | H21: 30 | I21: 30 | J21: 90 | K21: Variety | L21: Fall 2026 | M21: This is an interdisciplinary program allowing students to customize their study in accordance with their post-graduate goals in collaboration with supportive and enthusiastic mentors. This program serves students with the maturity and life experience to participate in the design of their own program, with specific career goals outside a traditional bachelors degree. | N21: Proposal already submitted for peer review. | P21: FALSE
A22: Utah Tech University | B22: 1 | C22: Southern | D22: Politics, Policy, and Law | E22: Bachelor | F22: BA | G22: =_xlfn.XLOOKUP(H22,'CIP Definitions'!A:A,'CIP Definitions'!B:B,"Not Found",0,1) -> SOCIAL SCIENCES. | H22: 45 | I22: 45.1001 | J22: 120 | K22: In person | L22: Fall 2026 | M22: Politics, policy, and law students learn associated concepts, theories, and investigative methods, while also building critical thinking and presentation skills through in-class and real-world experiences. It focuses on understanding interests, interactions, and institutions that shape communities, both locally and globally. Students develop knowledge and skills to navigate and influence these communities. | N22: BOT approval: 9/19/25. | P22: FALSE
A23: Southern Utah University | B23: 1 | C23: Southern | D23: Aerospace-Aviation Sciences | E23: Accelerated Bachelor | F23: BAP | G23: =_xlfn.XLOOKUP(H23,'CIP Definitions'!A:A,'CIP Definitions'!B:B,"Not Found",0,1) -> TRANSPORTATION AND MATERIALS MOVING. | H23: 49 | I23: 49.0102 | J23: 94 | K23: In person | L23: Fall 2026 | M23: Neuroscience is inherently an interdisciplinary field that pulls from aspects of biology, chemistry, psychology, and health sciences. Offering a major that provides students with this well-rounded, interdisciplinary education sets them up to be competitive in a myriad of career pathways. No public institutions in Utah currently offer an undergraduate in Neuroscience. | N23: Proposal already submitted for peer review. | P23: FALSE
A24: Southern Utah University | B24: 1 | C24: Southern | D24: Aviation Management | E24: Accelerated Bachelor | F24: BAP | G24: =_xlfn.XLOOKUP(H24,'CIP Definitions'!A:A,'CIP Definitions'!B:B,"Not Found",0,1) -> TRANSPORTATION AND MATERIALS MOVING. | H24: 49 | I24: 49.0104 | J24: 90 | K24: Variety | L24: Fall 2026 | M24: This degree prepares students for careers in management, administration, and leadership roles by focusing on the content, contexts, structures, and environments that form the Aviation Industry. Graduates are prepared to serve in a wide range of work environments, including, airline companies, airports, fixed-based operations, corporate aviation, aviation maintenance management, etc. | N24: Proposal already submitted for peer review. | P24: FALSE
A25: Utah Tech University | B25: 1 | C25: Southern | D25: Dance | E25: Associate | F25: AA/AS | G25: =_xlfn.XLOOKUP(H25,'CIP Definitions'!A:A,'CIP Definitions'!B:B,"Not Found",0,1) -> VISUAL AND PERFORMING ARTS. | H25: 50 | I25: 50.0301 | J25: 60 | K25: In person | L25: Fall 2026 | M25: The associate's degree in dance emphasizes foundational knowledge in embodied practice, creative practices, and theoretical contextualization. This degree at Utah Tech also prepares students to continue their education in dance programs at various USHE institutions or at Utah Tech. | N25: Proposal already submitted for peer review. | P25: FALSE
A26: Utah Tech University | B26: 1 | C26: Southern | D26: Music | E26: Associate | F26: AA | G26: =_xlfn.XLOOKUP(H26,'CIP Definitions'!A:A,'CIP Definitions'!B:B,"Not Found",0,1) -> VISUAL AND PERFORMING ARTS. | H26: 50 | I26: 50.0901 | J26: 60 | K26: In person | L26: Fall 2026 | M26: Students develop individual proficiency through four semesters of private lessons on their principal instrument or voice and build collaborative, professional skills through required participation in large and specialized ensembles. Core studies in music theory, aural skills, and performance practice are complemented by opportunities to engage with contemporary music tools and live sound workflows. | N26: Proposal already submitted for peer review. | P26: FALSE
A27: Utah Tech University | B27: 1 | C27: Southern | D27: Accounting | E27: Accelerated Graduate | F27: BAP/MAcc | G27: =_xlfn.XLOOKUP(H27,'CIP Definitions'!A:A,'CIP Definitions'!B:B,"Not Found",0,1) -> BUSINESS, MANAGEMENT, MARKETING, AND RELATED SUPPORT SERVICES. | H27: 52 | I27: 52.0301 | J27: 122 | K27: Variety | L27: Fall 2026 | M27: This dual degree is a workforce-focused, applied pathway designed to prepare students for immediate employment in corporate, governmental, nonprofit, and small business settings. The program uses an integrated 3+1 model that allows students to earn both degrees within four years by moving seamlessly from undergraduate coursework into bridge courses and then the master’s program. | N27: Proposal already submitted for peer review. | P27: FALSE
A28: Southern Utah University | B28: 1 | C28: Southern | D28: Professional Sales | E28: Bachelor | F28: BS | G28: =_xlfn.XLOOKUP(H28,'CIP Definitions'!A:A,'CIP Definitions'!B:B,"Not Found",0,1) -> BUSINESS, MANAGEMENT, MARKETING, AND RELATED SUPPORT SERVICES. | H28: 52 | I28: 52.1804 | J28: 120 | K28: In person | L28: Fall 2026 | M28: Designed to combine classroom learning and instruction with experiential learning through internships, regular role-play studies, and participation in both local and national competitions. This program prepares students with advanced knowledge, practical skills, and applied experience necessary to succeed in professional selling. | N28: Proposal already submitted for peer review. | P28: FALSE
A29: University of Utah | B29: 1 | C29: Wasatch Central | D29: Artificial Intelligence | E29: Bachelor | F29: BS | G29: =_xlfn.XLOOKUP(H29,'CIP Definitions'!A:A,'CIP Definitions'!B:B,"Not Found",0,1) -> COMPUTER AND INFORMATION SCIENCES AND SUPPORT SERVICES. | H29: 11 | I29: 11.0102 | J29: 120 | K29: Variety | L29: Fall 2026 | M29: This program includes foundational computer science and mathematics courses, and core AI areas such as machine learning, data analysis, natural language processing, computer vision, and robotics. Students also study the societal, ethical, and philosophical implications. Graduates are prepared for careers in industry, research, and graduate study in computer science and related disciplines. | N29: Proposal already submitted for peer review. | P29: FALSE
A30: University of Utah | B30: 1 | C30: Wasatch Central | D30: Music Education | E30: Bachelor | F30: BME | G30: =_xlfn.XLOOKUP(H30,'CIP Definitions'!A:A,'CIP Definitions'!B:B,"Not Found",0,1) -> EDUCATION. | H30: 13 | I30: 13.1312 | J30: 120 | L30: Fall 2026 | M30: The program consists of requirements such as elementary and secondary music teaching methods, supplementary instrument pedagogy, world music, philosophical and social foundations of education, educational psychology, special education, private music lessons, music theory, keyboard, conducting, music history, and large ensemble courses. A senior recital and student teaching internship are required. | N30: BOT approval: 9/9/25. | P30: FALSE
A31: University of Utah | B31: 1 | C31: Wasatch Central | D31: Materials Engineering and Management | E31: Master | F31: MMEM | G31: =_xlfn.XLOOKUP(H31,'CIP Definitions'!A:A,'CIP Definitions'!B:B,"Not Found",0,1) -> ENGINEERING. | H31: 14 | I31: 14.1801 | J31: 36 | K31: Variety | L31: Fall 2025 | M31: The degree is designed for engineers seeking to expand their knowledge of materials engineering and management. The program curriculum consists of fundamental and applied materials courses, business and management related courses, and data analytical courses providing engineering professionals with tools and knowledge to enable better performance and broader, more rewarding career paths. | N31: BOT approval: 2/10/26. | P31: FALSE | Q31: TJ: This had an anticipated start date of Fall 2025, but BOT didn't approve until 2026.
A32: University of Utah | B32: 1 | C32: Wasatch Central | D32: Legal Studies | E32: Bachelor | F32: BA/BS | G32: =_xlfn.XLOOKUP(H32,'CIP Definitions'!A:A,'CIP Definitions'!B:B,"Not Found",0,1) -> LEGAL PROFESSIONS AND STUDIES. | H32: 22 | I32: 22.0099 | J32: 120 | L32: Fall 2026 | M32: Legal Studies is an interdisciplinary exploration of legal institutions, practices, ideas, and values geared toward students who have an interest in law but not necessarily a professional degree. Using insights and methods combining the social sciences, humanities, and legal profession it explores ways the law shapes and is shaped by social, economic, and political forces. | N32: BOT approval: 9/9/25. | P32: FALSE
A33: University of Utah | B33: 1 | C33: Wasatch Central | D33: English Education | E33: Bachelor | F33: BS | G33: =_xlfn.XLOOKUP(H33,'CIP Definitions'!A:A,'CIP Definitions'!B:B,"Not Found",0,1) -> ENGLISH LANGUAGE AND LITERATURE/LETTERS. | H33: 23 | I33: 23.0101 | J33: 120 | K33: In person | L33: Fall 2026 | M33: The new B.S. degree would afford students interested in teaching and related careers the possibility of supplementing their training in literary studies and pedagogy with training in computing and digital methods. | N33: BOT approval: 2/10/26. | P33: FALSE
A34: University of Utah | B34: 1 | C34: Wasatch Central | D34: Neuroscience | E34: Bachelor | F34: BA/BS | G34: =_xlfn.XLOOKUP(H34,'CIP Definitions'!A:A,'CIP Definitions'!B:B,"Not Found",0,1) -> BIOLOGICAL AND BIOMEDICAL SCIENCES. | H34: 26 | I34: 26.1501 | J34: 120 | K34: In person | L34: Fall 2026 | M34: Neuroscience is an interdisciplinary major that explores the structure, function, and development of the nervous system, as well as its role in behavior, cognition, and disease. This program is ideal for students passionate about understanding the brain and its intricate role in human thought, behavior, and health. | N34: BOT approval: 2/10/26. | P34: FALSE
A35: University of Utah | B35: 1 | C35: Wasatch Central | D35: Financial Technology | E35: Master | F35: MS | G35: =_xlfn.XLOOKUP(H35,'CIP Definitions'!A:A,'CIP Definitions'!B:B,"Not Found",0,1) -> MULTI/INTERDISCIPLINARY STUDIES. | H35: 30 | I35: 30.7104 | J35: 30 | K35: In person | L35: Fall 2026 | M35: As Fintech continues to revolutionize commerce and financial transactions, there is growing demand for professionals who can bridge the gap between finance and technology. The program emphasizes experiential learning, strategic thinking, and interdisciplinary collaboration, preparing graduates to assume leadership roles in both established financial institutions and entrepreneurial ventures. | N35: Proposal already submitted for peer review. | P35: FALSE
A36: University of Utah | B36: 1 | C36: Wasatch Central | D36: Health and Human Services | E36: Bachelor | F36: BA/BS | G36: =_xlfn.XLOOKUP(H36,'CIP Definitions'!A:A,'CIP Definitions'!B:B,"Not Found",0,1) -> PUBLIC ADMINISTRATION AND SOCIAL SERVICE PROFESSIONS. | H36: 44 | I36: 44 | J36: 120 | K36: Variety | L36: Fall 2026 | M36: This a cross-disciplinary, skill-based undergraduate degree designed to prepare students for careers in a wide range of helping professions that support individual, family, and community well-being. The program emphasizes practical skill development, ethical practice, and a broad understanding of the systems and services that impact people across the lifespan and diverse settings. | N36: BOT approval: 2/10/26. | P36: FALSE
A37: University of Utah | B37: 1 | C37: Wasatch Central | D37: Criminology | E37: Master | F37: MS | G37: =_xlfn.XLOOKUP(H37,'CIP Definitions'!A:A,'CIP Definitions'!B:B,"Not Found",0,1) -> SOCIAL SCIENCES. | H37: 45 | I37: 45.0401 | J37: 30 | K37: Variety | L37: Fall 2026 | M37: This degree prepares students for careers in social and human service occupations. Exploration includes empirical research on crime and criminal behavior; tools and methods to study and prevent crime; issues relating to criminal law, offenders, and victims; and practices of agencies related to juvenile and adult offenders. | N37: Proposal already submitted for peer review. | P37: FALSE
A38: University of Utah | B38: 1 | C38: Wasatch Central | D38: Theatre | E38: Bachelor | F38: BA/BS | G38: =_xlfn.XLOOKUP(H38,'CIP Definitions'!A:A,'CIP Definitions'!B:B,"Not Found",0,1) -> VISUAL AND PERFORMING ARTS. | H38: 50 | I38: 50.0501 | J38: 120 | K38: Variety | L38: Fall 2026 | M38: Theatre students delve deeper into an area of applied focus through elective coursework and participation in departmental productions. Areas of focus may include performance, new works (playwriting/directing/dramaturgy), design/technology, or a self-determined pathway. Theatre majors may also pursue a Certificate in Stage Management. | N38: Proposal already submitted for peer review. | P38: FALSE
A39: Salt Lake Community College | B39: 1 | C39: Wasatch Central | D39: Healthcare Sciences | E39: Associate | F39: AS | G39: =_xlfn.XLOOKUP(H39,'CIP Definitions'!A:A,'CIP Definitions'!B:B,"Not Found",0,1) -> HEALTH PROFESSIONS AND RELATED PROGRAMS. | H39: 51 | I39: 51.2211 | J39: 60 | K39: face-to-face, hybrid | L39: Fall 2026 | M39: A new Healthcare Science Associates of Science (HS-AS) program will consolidate and replace the current Pre- Health Sciences and Community Health and Leadership (CHL) Programs. This new degree will serve as a single point of entry for students in the Health Sciences pathway. This program will accommodate students working on entry requirements for selective admissions as well as serve students interested in open enrollment degree options in non-clinical health science fields such as Heath Administration and Public Health. Resources and advising will also be provided to students who are exploring options within the healthcare field. | N39: This degree will serve as a structured pathway for students pursuing clinical and non-clinical healthcare careers. Key features include: Clinical Pathways: Each selective admission program will be represented as an concentration within the AS degree, facilitating clarity on prerequisite requirements and targeted outreach to students pursuing specific clinical programs. Non-Clinical Pathways: Students interested in healthcare careers outside of clinical roles will have clearer pathways through the proposed non-clinical concentrations in Public Health/Health Policy or Health Administration. The current CHL Program, a precursor to the proposed non-clinical concentrations, has several articulations which will remain in place. This will allow HS-AS students to transfer to 4-year degree programs at the Junior level in Public Health, Health Administration or Community Health programs. | O39: articulation agreements drafted and complete with the University of Utah, Weber State University, Utah Tech University, and Westminster University. | P39: TRUE
A40: Weber State University | B40: 1 | C40: Wasatch Northern | D40: Special Education | E40: Master | F40: MAT | G40: =_xlfn.XLOOKUP(H40,'CIP Definitions'!A:A,'CIP Definitions'!B:B,"Not Found",0,1) -> EDUCATION. | H40: 13 | I40: 13.1001 | J40: 32 | K40: F2F, Online, Hybrid | L40: Fall 2026 | M40: The Master of Arts in Teaching in Special Education is designed for individuals with a bachelor’s degree who wish to earn a recommendation for K-12 special education licensure. The program integrates advanced coursework with practical field experiences to prepare candidates to meet the diverse learning needs of students with disabilities.. | N40: Proposal already submitted for peer review. | P40: Duplicate
...

Sheet New Academic Certificates
A1: Institution | B1: Year | C1: Region | D1: Certificate Name | E1: Existing Aligned Program | F1: Award | G1: Award Type | H1: CIP Family | I1: 2-Digit CIP | J1: CIP Code | K1: Credits | L1: Delivery Method | M1: Anticipated Start Date | N1: Certificate Description | O1: Justification | P1: Inter-Institutional Collaboration (Degree Only) | Q1: Plan submission? | R1: Notes
A2: Utah State University | B2: 1 | C2: Northern | D2: Agriculture & Natural Resources Safety | E2: NA | F2: Academic Certificate | G2: Cert | H2: =_xlfn.XLOOKUP(I2,'CIP Definitions'!A:A,'CIP Definitions'!B:B,"Not Found",0,1) -> AGRICULTURAL/ANIMAL/PLANT/VETERINARY SCIENCE AND RELATED FIELDS. | I2: 1 | J2: 1 | K2: 12 | L2: F2F | M2: Fall 2026 Equipment Safety for Agriculture and Natural Resources (ASTE 1110) was approved for delivery Fall 2026. | N2: This undergraduate certificate would provide foundational training in agriculture and natural resources safety. Students gain hands-on and classroom experience in pesticide safety, animal handling, tractor and machinery operation, ATV safety, and equipment safety. Electives in production, equine studies, biosecurity, and agribusiness emergency preparedness strengthen risk management across agricultural systems and natural resource systems. | O2: Agriculture and natural resources work require employees who can safely perform tasks such as operating tractors and machinery, handling pesticides, working with livestock, and using ATVs in field environments. Utah State University research farms and field programs rely heavily on student workers, yet few arrive with formal safety training. ADVS, PSC, and USU Farms have all indicated a need for this training and a willingness to participate in the program. This is particularly important in an industry with one of the highest occupational fatal injury rates in the United States. USDA NIFA identifies safety education and equipment training as key strategies to reduce accidents and improve agricultural operations. | Q2: TRUE
A3: Utah State University | B3: 1 | C3: Northern | D3: Organic Agriculture | E3: NA | F3: Academic Certificate | G3: AC | H3: =_xlfn.XLOOKUP(I3,'CIP Definitions'!A:A,'CIP Definitions'!B:B,"Not Found",0,1) -> AGRICULTURAL/ANIMAL/PLANT/VETERINARY SCIENCE AND RELATED FIELDS. | I3: 1 | J3: 1.0308 | K3: 12 | L3: In person | M3: Fall 2026 | N3: The certificate in organic agriculture is designed to prepare students for careers in all aspects of the organic farming sector. The goal is to enhance the skill set and marketability of students enrolled in any degree program at USU. In addition, it could serve as a steppingstone qualification to an associate or bachelor’s degree. | O3: Proposal already submitted for peer review. | Q3: FALSE
A4: Utah State University | B4: 1 | C4: Northern | D4: Residential Landscape Design | E4: NA | F4: Academic Certificate | G4: AC | H4: =_xlfn.XLOOKUP(I4,'CIP Definitions'!A:A,'CIP Definitions'!B:B,"Not Found",0,1) -> AGRICULTURAL/ANIMAL/PLANT/VETERINARY SCIENCE AND RELATED FIELDS. | I4: 1 | J4: 1.0601 | K4: 19 | L4: Variety | M4: Fall 2026 | N4: This certificate is for students in other majors or second bachelor’s degree seekers who wish to add design components to their skillset. Second bachelor’s degree seeking students can complete the design aspects of the Residential Landscape Design and Construction Major without having to take construction and other science courses associated with the major. | O4: Proposal already submitted for peer review. | Q4: FALSE
A5: Utah State University | B5: 1 | C5: Northern | D5: Human-Wildlife Interactions | E5: NA | F5: Academic Certificate | G5: AC | H5: =_xlfn.XLOOKUP(I5,'CIP Definitions'!A:A,'CIP Definitions'!B:B,"Not Found",0,1) -> NATURAL RESOURCES AND CONSERVATION. | I5: 3 | J5: 3.0601 | K5: 12 | L5: Variety | M5: Spring 2026 | N5: The target audience for the degree is undergraduate students interested in wildlife ecology and management at USU, particularly students already enrolled in degrees within the S.J. and Jessie E. Quinney College of Agriculture and Natural Resources. This additional certificate will provide opportunities for students to stack credentials without additional credit hours. | O5: Proposal already submitted for peer review. | Q5: FALSE
A6: Utah State University | B6: 1 | C6: Northern | D6: Human-Wildlife Interactions | E6: NA | F6: Academic Certificate | G6: GCRB | H6: =_xlfn.XLOOKUP(I6,'CIP Definitions'!A:A,'CIP Definitions'!B:B,"Not Found",0,1) -> NATURAL RESOURCES AND CONSERVATION. | I6: 3 | J6: 3.0601 | K6: 12 | L6: Online | M6: Spring 2026 | N6: Students will develop the interdisciplinary knowledge and applied skills necessary to assess and manage human-wildlife interactions by integrating ecological science, conflict mitigation strategies, policy analysis, ethical reasoning, and effective communication to promote sustainable coexistence between humans and wildlife across varying cultural and environmental contexts. | O6: Proposal already submitted for peer review. | Q6: FALSE
A7: Utah State University | B7: 1 | C7: Northern | D7: Thematic Design | E7: NA | F7: Academic Certificate | G7: AC | H7: =_xlfn.XLOOKUP(I7,'CIP Definitions'!A:A,'CIP Definitions'!B:B,"Not Found",0,1) -> ARCHITECTURE AND RELATED SERVICES. | I7: 4 | J7: 4.0601 | K7: 9 | L7: Variety | M7: Fall 2026 | N7: Thematic Design prepares students to design immersive environments where storytelling, spatial experience, and environmental design converge. Focusing on theme parks, zoos, botanical gardens, and other interpretive venues, the program explores how narrative, form, and materiality shape user experience. Students develop skills in conceptual thinking, spatial composition, and visual communication. | O7: Proposal already submitted for peer review. | Q7: FALSE
A8: Utah State University | B8: 1 | C8: Northern | D8: Qualitative Advanced Research Methods | E8: NA | F8: Academic Certificate | G8: GCRB | H8: =_xlfn.XLOOKUP(I8,'CIP Definitions'!A:A,'CIP Definitions'!B:B,"Not Found",0,1) -> EDUCATION. | I8: 13 | J8: 13.0601 | K8: 15 | L8: Variety | M8: Fall 2026 | N8: The certificate prepares students to conceptualize, conduct, and report on qualitative design-based, community engaged and/or evaluation research studies. Students learn and utilize these skills throughout their coursework in preparation for their careers. The certificate is also available as a post-baccalaureate credential for learners seeking to enhance their PhD program readiness. | O8: Proposal already submitted for peer review. | Q8: Duplicate
A9: Utah State University | B9: 1 | C9: Northern | D9: Transportation Infrastructure Electrification | E9: NA | F9: Academic Certificate | G9: GCRB | H9: =_xlfn.XLOOKUP(I9,'CIP Definitions'!A:A,'CIP Definitions'!B:B,"Not Found",0,1) -> ENGINEERING. | I9: 14 | J9: 14.0802 | K9: 9 | L9: Online | M9: Fall 2026 | N9: This graduate certificate provides interdisciplinary training at the intersection of electrified transportation, energy systems, artificial intelligence, and infrastructure planning. Through a sequence of integrated courses, students develop a systems-level understanding of how vehicles, charging infrastructure, power grids, buildings, data systems, economics, policy, and equity considerations interact in modern electrified environments. | O9: Proposal already submitted for peer review. | Q9: FALSE
A10: Utah State University | B10: 1 | C10: Northern | D10: Engineering Foundations | E10: NA | F10: Academic Certificate | G10: AC | H10: =_xlfn.XLOOKUP(I10,'CIP Definitions'!A:A,'CIP Definitions'!B:B,"Not Found",0,1) -> ENGINEERING. | I10: 14 | J10: 14.4801 | K10: 25 | L10: In person | M10: Fall 2026 | N10: The Engineering Foundations Certificate offers students—both aspiring engineers and those in other disciplines—an opportunity to develop a strong understanding of core engineering principles. Through a coherent sequence of first-year courses, students gain the knowledge and skills needed to succeed in sophomore-level engineering coursework or to enhance their perspective in other professional fields. | O10: Proposal already submitted for peer review. | Q10: FALSE
A11: Utah State University | B11: 1 | C11: Northern | D11: Nutrition and Healthy Living | E11: NA | F11: Academic Certificate | G11: AC | H11: =_xlfn.XLOOKUP(I11,'CIP Definitions'!A:A,'CIP Definitions'!B:B,"Not Found",0,1) -> FAMILY AND CONSUMER SCIENCES/HUMAN SCIENCES. | I11: 19 | J11: 19.0501 | K11: 9 | L11: Variety | M11: Fall 2026 | N11: The Nutrition and Healthy Living certificate is designed for students from any major who are interested in improving their understanding of nutrition for personal and family health. This flexible 9-12 credit certificate provides a foundation in human nutrition and explores how food choices, cooking skills, physical activity, and behavior impact lifelong wellness. | O11: Proposal already submitted for peer review. | Q11: FALSE
A12: Utah State University | B12: 1 | C12: Northern | D12: Plant Identification and Applied Botany | E12: NA | F12: Academic Certificate | G12: AC | H12: =_xlfn.XLOOKUP(I12,'CIP Definitions'!A:A,'CIP Definitions'!B:B,"Not Found",0,1) -> BIOLOGICAL AND BIOMEDICAL SCIENCES. | I12: 26 | J12: 26.0301 | K12: 9 | L12: In person | M12: Spring 2026 | N12: This certificate will recognize a student’s preparation in wildland plant identification and the applied botany of non-cultivated plants. The course list will require that students take courses from at least two different departments but is designed around courses that are parts of existing degree programs in BIOL, WILD, WATS, PSC, and ADVS. | O12: Proposal already submitted for peer review. | Q12: FALSE
A13: Utah State University | B13: 1 | C13: Northern | D13: Marine Biology | E13: NA | F13: Academic Certificate | G13: AC | H13: =_xlfn.XLOOKUP(I13,'CIP Definitions'!A:A,'CIP Definitions'!B:B,"Not Found",0,1) -> BIOLOGICAL AND BIOMEDICAL SCIENCES. | I13: 26 | J13: 26.1302 | K13: 9 | L13: In person | M13: Fall 2026 | N13: This certificate provides students from any major the opportunity to explore ocean systems while developing a foundational understanding of the processes that shape marine environments. Through coursework in marine biology, oceanography, and marine conservation, students gain interdisciplinary perspectives that integrate biological, ecological, and environmental sciences to understand the ocean’s role in Earth’s systems and human well-being. | O13: Proposal already submitted for peer review. | Q13: FALSE
A14: Utah State University | B14: 1 | C14: Northern | D14: Conflict Transformation | E14: NA | F14: Academic Certificate | G14: GCRB | H14: =_xlfn.XLOOKUP(I14,'CIP Definitions'!A:A,'CIP Definitions'!B:B,"Not Found",0,1) -> MULTI/INTERDISCIPLINARY STUDIES. | I14: 30 | J14: 30.2801 | K14: 9 | L14: In-person, Connect, Online, Hybrid | M14: Fall 2026 | N14: The Post-Bachelor's Certificate in Conflict Transformation helps students develop the necessary skills and perspectives to transform conflict in multiple contexts. Students will learn how to think about conflict at different levels from the intra/interpersonal to the international/global. Graduates will be well equipped to transform conflict in their relationships, workplace, and other spheres of influence. | O14: Proposal already submitted for peer review. | Q14: Duplicate
A15: Utah State University | B15: 1 | C15: Northern | D15: Foundations of Artificial Intelligence | E15: NA | F15: Academic Certificate | G15: GCRB | H15: =_xlfn.XLOOKUP(I15,'CIP Definitions'!A:A,'CIP Definitions'!B:B,"Not Found",0,1) -> MULTI/INTERDISCIPLINARY STUDIES. | I15: 30 | J15: 30.3001 | K15: 9 | L15: Variety | M15: Fall 2026 | N15: This credential focuses on STEM students and professionals wanting to deepen their understanding of the mathematical, statistical, and computational foundations of artificial intelligence. It focuses on empowering students to develop and extend their own AI tools, whether as part of their academic research programs or in their work in industry. | O15: Proposal already submitted for peer review. | Q15: Duplicate
A16: Utah State University | B16: 1 | C16: Northern | D16: Wildland Fire Science | E16: NA | F16: Academic Certificate | G16: AC | H16: =_xlfn.XLOOKUP(I16,'CIP Definitions'!A:A,'CIP Definitions'!B:B,"Not Found",0,1) -> HOMELAND SECURITY, LAW ENFORCEMENT, FIREFIGHTING AND RELATED PROTECTIVE SERVICES. | I16: 43 | J16: 43.0206 | K16: 9 | L16: Variety | M16: Spring 2026 | N16: This certificate provides opportunities for students to stack credentials onto their degree without additional credit hours, allowing them to show they have basic knowledge of wildland fire science. Students in programs such as wildlife, range, forestry, and aviation, among others, could add this certificate to deepen their understanding of wildland fire. | O16: Proposal already submitted for peer review. | Q16: FALSE
A17: Utah State University | B17: 1 | C17: Northern | D17: Musical Theatre | E17: NA | F17: Academic Certificate | G17: AC | H17: =_xlfn.XLOOKUP(I17,'CIP Definitions'!A:A,'CIP Definitions'!B:B,"Not Found",0,1) -> VISUAL AND PERFORMING ARTS. | I17: 50 | J17: 50.0509 | K17: 14 | L17: In-person | M17: Fall 2026 | N17: The Musical Theatre Certificate for BFA Theatre Education students is a credential designed to offer training in performance elements essential to musical theatre. This program provides coursework in acting, singing, dancing, and musical staging, equipping future educators with technical expertise and confidence to direct, produce, and teach musical theatre productions in educational settings. | O17: Proposal already submitted for peer review. | Q17: Duplicate
A18: Utah State University | B18: 1 | C18: Northern | D18: Substance Use Disorder Counseling | E18: NA | F18: Academic Certificate | G18: AC | H18: =_xlfn.XLOOKUP(I18,'CIP Definitions'!A:A,'CIP Definitions'!B:B,"Not Found",0,1) -> HEALTH PROFESSIONS AND RELATED PROGRAMS. | I18: 51 | J18: 51.1501 | K18: 25 | L18: Variety | M18: Spring 2027 | N18: This certificate prepares students for both Basic and Advanced Substance Use Disorder Counselor Licensure in Utah. This credential integrates applied social science knowledge, emphasizing neurobiological and psychosocial factors of addiction, evidence-based intervention strategies, and clinical ethics to prepare students for human services, healthcare, non-profit, and the correctional sector as qualified support specialists. | O18: Proposal already submitted for peer review. | Q18: Duplicate
A19: Utah State University | B19: 1 | C19: Northern | D19: Organizational Leadership | E19: NA | F19: Academic Certificate | G19: GCRB | H19: =_xlfn.XLOOKUP(I19,'CIP Definitions'!A:A,'CIP Definitions'!B:B,"Not Found",0,1) -> BUSINESS, MANAGEMENT, MARKETING, AND RELATED SUPPORT SERVICES. | I19: 52 | J19: 52.0201 | K19: 9 | L19: Variety | M19: Fall 2026 | N19: This certificate is designed for working professionals seeking to enhance their organizational leadership skills. The courses in the certificate will be stackable toward completing the Master of Business Administration (MBA). Coursework encompasses leadership skills and influence practices with a focus on leadership development, innovative leadership, executive influence, and creating stakeholder agreements. | O19: Proposal already submitted for peer review. | Q19: FALSE
A20: Utah State University | B20: 1 | C20: Northern | D20: Middle School Mathematics | E20: NA | F20: Academic Certificate | G20: AC | H20: =_xlfn.XLOOKUP(I20,'CIP Definitions'!A:A,'CIP Definitions'!B:B,"Not Found",0,1) -> EDUCATION. | I20: 13 | J20: 131311 | K20: 19 | L20: In-person, broadcast/connect | M20: Fall 2026 | N20: This certificate enables the middle school mathematics endorsement for those with an educator license with an elementary or secondary area of concentration. Coursework includes content knowledge and middle school mathematics dispositions, skills, and pedagogy. The certificate allows a student to be recommended for or apply for the endorsement with USBE. | O20: Proposal already submitted for peer review. | Q20: Duplicate
A21: Utah State University | B21: 1 | C21: Northern | D21: Professional Writing and Communication | E21: NA | F21: Academic Certificate | G21: AC | H21: =_xlfn.XLOOKUP(I21,'CIP Definitions'!A:A,'CIP Definitions'!B:B,"Not Found",0,1) -> ENGLISH LANGUAGE AND LITERATURE/LETTERS. | I21: 23 | J21: 231303 | K21: 12 | L21: In-person | M21: Summer 2026 | N21: This Certificate is designed for those seeking a credential to develop, enhance, and document the durable skills of written and oral communication, problem solving, critical thinking, and collaborating in teams. This certificate also allows students to earn credit for studying professional writing and communication in a world language. | O21: Proposal already submitted for peer review. | Q21: Duplicate
A22: Utah State University | B22: 1 | C22: Northern | D22: School Counselng Licensure | E22: NA | F22: Academic Certificate | G22: GCRM | H22: =_xlfn.XLOOKUP(I22,'CIP Definitions'!A:A,'CIP Definitions'!B:B,"Not Found",0,1) -> 0 | K22: TBD | L22: Online, Remote Virtual | M22: Fall 2026 | N22: The proposed Post-Master’s School Counseling Certificate (Licensure Pathway) would be designed for individuals who already hold a master’s degree in a counseling-related field (e.g., Clinical Mental Health Counseling, Rehabilitation Counseling) and are seeking eligibility for school counseling licensure in Utah. | O22: This certificate would provide a structured and potentially efficient pathway for experienced counseling professionals to develop the specialized knowledge, skills, and supervised field experiences needed for practice in K–12 school settings. This pathway could expand access for already-trained counseling professionals, and offer a streamlined route to licensure while maintaining high standards of preparation. | Q22: TRUE
A23: Southern Utah University | B23: 1 | C23: Southern | D23: Equine Management | E23: NA | F23: Academic Certificate | G23: AC | H23: =_xlfn.XLOOKUP(I23,'CIP Definitions'!A:A,'CIP Definitions'!B:B,"Not Found",0,1) -> AGRICULTURAL/ANIMAL/PLANT/VETERINARY SCIENCE AND RELATED FIELDS. | I23: 1 | J23: 1.0307 | K23: 19 | L23: In person | M23: Fall 2026 | N23: The proposed certificate provides training and experience in horse training and management, breeding, sales of equine supplies, farm/ranch management, and other related agricultural careers. Learning Outcomes • Students will demonstrate knowledge of scientific principles related to horses. • Students will demonstrate knowledge of equine industries including structure, production practices, and management principles. | O23: Proposal already submitted for peer review. | Q23: FALSE
A24: Utah Tech University | B24: 1 | C24: Southern | D24: Artificial Intelligence and Machine Learning | E24: NA | F24: Academic Certificate | G24: AC | H24: =_xlfn.XLOOKUP(I24,'CIP Definitions'!A:A,'CIP Definitions'!B:B,"Not Found",0,1) -> COMPUTER AND INFORMATION SCIENCES AND SUPPORT SERVICES. | I24: 11 | J24: 11.0102 | K24: 9 | L24: Variety | M24: Fall 2026 | N24: This certificate program emphasizes the technologies and terminology most valued by employers, the program strengthens students’ career and internship readiness, equipping them with applied competencies frequently listed in job descriptions. Courses are project-based, enabling students to build a portfolio of tangible work that showcases their skills to future employers. | O24: BOT approval: 1/30/26. | Q24: FALSE
A25: Southern Utah University | B25: 1 | C25: Southern | D25: Science Informatics | E25: NA | F25: Academic Certificate | G25: AC | H25: =_xlfn.XLOOKUP(I25,'CIP Definitions'!A:A,'CIP Definitions'!B:B,"Not Found",0,1) -> COMPUTER AND INFORMATION SCIENCES AND SUPPORT SERVICES. | I25: 11 | J25: 11.0104 | K25: 10 | L25: In person | M25: Fall 2026 | N25: This certificate prepares students to navigate the modern, data-driven scientific landscape. As laboratory roles increasingly intersect with data science, this certificate provides a foundation in acquiring, managing, and interpreting massive datasets. By integrating core scientific principles with high-demand technical skills in Python, R, and SQL, it prepares students to solve complex problems. | O25: Proposal already submitted for peer review. | Q25: FALSE
A26: Southern Utah University | B26: 1 | C26: Southern | D26: Biotechnology | E26: NA | F26: Academic Certificate | G26: AC | H26: =_xlfn.XLOOKUP(I26,'CIP Definitions'!A:A,'CIP Definitions'!B:B,"Not Found",0,1) -> BIOLOGICAL AND BIOMEDICAL SCIENCES. | I26: 26 | J26: 26.1201 | K26: 35 | L26: In person | M26: Fall 2026 | N26: This skills-based program designed to bridge the gap between theoretical biology and industry application. Students gain hands-on experience in modern laboratory techniques in the life sciences. Engineered as a stackable credential, the program allows students to enhance their employability, prepare for advanced studies, or specialized research roles. | O26: Proposal already submitted for peer review. | Q26: FALSE
A27: Southern Utah University | B27: 1 | C27: Southern | D27: Foundations of Artificial Intelligence Literacy and Ethics | E27: NA | F27: Academic Certificate | G27: AC | H27: =_xlfn.XLOOKUP(I27,'CIP Definitions'!A:A,'CIP Definitions'!B:B,"Not Found",0,1) -> MULTI/INTERDISCIPLINARY STUDIES. | I27: 30 | J27: 30.5202 | K27: 9 | L27: In Person | M27: Fall 2026 | N27: It will provide both a basic introduction to AI literacy and AI ethics, as well as offer an opportunity to apply that knowledge to their chosen field of study. Students who complete the program will be confident and effective users and consumers of AI. | O27: BOT approval: 2/19/26. | Q27: FALSE
A28: Southern Utah University | B28: 1 | C28: Southern | D28: Principles of Artificial Intelligence Literacy and Ethics | E28: NA | F28: Academic Certificate | G28: GCRB | H28: =_xlfn.XLOOKUP(I28,'CIP Definitions'!A:A,'CIP Definitions'!B:B,"Not Found",0,1) -> MULTI/INTERDISCIPLINARY STUDIES. | I28: 30 | J28: 30.5202 | K28: 9 | L28: Online | M28: Fall 2026 | N28: The post-bachelor’s certificate in Principles of Artificial Intelligence Literacy and Ethics is designed for mid-career professionals and graduate students seeking advanced training in the effective and ethical use of generative AI. | O28: BOT approval: 2/19/26. | Q28: FALSE
A29: Utah Tech University | B29: 1 | C29: Southern | D29: Laboratory Quality Assurance and Quality Control | E29: NA | F29: Academic Certificate | G29: AC | H29: =_xlfn.XLOOKUP(I29,'CIP Definitions'!A:A,'CIP Definitions'!B:B,"Not Found",0,1) -> SCIENCE TECHNOLOGIES/TECHNICIANS. | I29: 41 | J29: 41.0301 | K29: 9 | L29: Variety | M29: Fall 2026 | N29: This certificate helps students build the skills needed to meet the documentation, regulatory, and quality standards expected in modern laboratories. The program combines classroom instruction with hands-on practice in safety, compliance systems, and commonly used analytical tools gaining exposure to the daily workflows of regulated laboratories across life sciences, manufacturing, and environmental testing. | O29: BOT approval: 1/30/26. | Q29: FALSE
A30: Utah Tech University | B30: 1 | C30: Southern | D30: Music Composition | E30: NA | F30: Academic Certificate | G30: AC | H30: =_xlfn.XLOOKUP(I30,'CIP Definitions'!A:A,'CIP Definitions'!B:B,"Not Found",0,1) -> VISUAL AND PERFORMING ARTS. | I30: 50 | J30: 50.0904 | K30: 23 | L30: Variety | M30: Fall 2026 | N30: This certificate provides students with specialized training and lower-level credential in composing music. At the successful conclusion of this program, students can compose music that communicates messages the composer intends, create and organize a portfolio of original compositions and arrangements in various styles and techniques, and organize performances of their music and work. | O30: Proposal already submitted for peer review. | Q30: FALSE
A31: Southern Utah University | B31: 1 | C31: Southern | D31: Professional Accounting | E31: NA | F31: Academic Certificate | G31: GCRB | H31: =_xlfn.XLOOKUP(I31,'CIP Definitions'!A:A,'CIP Definitions'!B:B,"Not Found",0,1) -> BUSINESS, MANAGEMENT, MARKETING, AND RELATED SUPPORT SERVICES. | I31: 52 | J31: 52.0301 | K31: 12 | L31: Online | M31: Fall 2026 | N31: This program will provide an opportunity for students with a bachelor’s degree to complete graduate level coursework and meet the requirements for licensure as a Certified Public Accountant in Utah faster and cheaper than a full master’s program. | O31: Proposal already submitted for peer review. | Q31: FALSE
A32: Utah Tech University | B32: 1 | C32: Southern | D32: Small Business Marketing Communication | E32: NA | F32: Academic Certificate | G32: AC | H32: =_xlfn.XLOOKUP(I32,'CIP Definitions'!A:A,'CIP Definitions'!B:B,"Not Found",0,1) -> BUSINESS, MANAGEMENT, MARKETING, AND RELATED SUPPORT SERVICES. | I32: 52 | J32: 52.1401 | K32: 12 | L32: Variety | M32: Fall 2026 | N32: Students learn to integrate branding, digital media, and data-driven decision making into impactful campaigns tailored to the unique needs of small, local businesses. Rooted in strategy and storytelling, the certificate prepares graduates to amplify the voices of small businesses and entrepreneurs, helping them grow, connect, and make a meaningful impact in their communities. | O32: Proposal already submitted for peer review. | Q32: FALSE
A33: Utah Tech University | B33: 1 | C33: Southern | D33: Digital Marketing | E33: NA | F33: Academic Certificate | G33: AC | H33: =_xlfn.XLOOKUP(I33,'CIP Definitions'!A:A,'CIP Definitions'!B:B,"Not Found",0,1) -> BUSINESS, MANAGEMENT, MARKETING, AND RELATED SUPPORT SERVICES. | I33: 52 | J33: 52.1404 | K33: 12 | L33: Variety | M33: Fall 2026 | N33: Students begin with core courses in Marketing Principles and Digital Marketing, establishing a strong foundation in customer behavior, brand positioning, and integrated online strategies. From there, students choose to specialize in areas most relevant to their goals, including search engine optimization, marketing research, eCommerce strategy, email and marketing automation, marketing analytics, and content marketing. | O33: Proposal already submitted for peer review. | Q33: FALSE
A34: Southern Utah University | B34: 1 | C34: Southern | D34: Taxation | E34: NA | F34: Academic Certificate | G34: GCRB | H34: =_xlfn.XLOOKUP(I34,'CIP Definitions'!A:A,'CIP Definitions'!B:B,"Not Found",0,1) -> BUSINESS, MANAGEMENT, MARKETING, AND RELATED SUPPORT SERVICES. | I34: 52 | J34: 52.1601 | K34: 12 | L34: Online | M34: Fall 2026 | N34: Tax professionals are in high demand and actively engaged in their community serving their clients. This program will increase access and affordability to both education and careers as tax professionals. It provides an opportunity for accounting undergraduate students focused on taxation to take graduate courses and meet requirements for licensure. | O34: Proposal already submitted for peer review. | Q34: FALSE
